BEGIN:VCALENDAR
VERSION:2.0
PRODID:-//Art School - ECPv6.2.9//NONSGML v1.0//EN
CALSCALE:GREGORIAN
METHOD:PUBLISH
X-ORIGINAL-URL:https://marinakrutko.com
X-WR-CALDESC:Events for Art School
REFRESH-INTERVAL;VALUE=DURATION:PT1H
X-Robots-Tag:noindex
X-PUBLISHED-TTL:PT1H
BEGIN:VTIMEZONE
TZID:America/New_York
BEGIN:DAYLIGHT
TZOFFSETFROM:-0500
TZOFFSETTO:-0400
TZNAME:EDT
DTSTART:20250309T070000
END:DAYLIGHT
BEGIN:STANDARD
TZOFFSETFROM:-0400
TZOFFSETTO:-0500
TZNAME:EST
DTSTART:20251102T060000
END:STANDARD
END:VTIMEZONE
BEGIN:VEVENT
DTSTART;TZID=America/New_York:20250510T160000
DTEND;TZID=America/New_York:20250510T183000
DTSTAMP:20260421T090209
CREATED:20250402T194121Z
LAST-MODIFIED:20250502T150527Z
UID:1844-1746892800-1746901800@marinakrutko.com
SUMMARY:Spring Workshop (Spring Crocuses)
DESCRIPTION:Flower Bouquet “Spring Crocuses” – workshop for children and parents\nWe invite you to a workshop on creating a flower bouquet “Spring Crocuses” from chenille wire 💐 \n05.10.2025\n4:00-6:30pm. \nCost: 70$ \nIn this workshop you will learn how to create a delicate spring bouquet from fluffy chenille wire. We will understand how to make realistic crocuses and a charming dragonfly\, which will give the composition a special charm. \nWhat’s waiting for you: \n✅ Working with chenille wire: technique of forming petals\, leaves and stems.\n✅ Creating three-dimensional flowers\n✅ Assembling a bouquet\n✅ Completing the composition with decorative elements\, such as an air dragonfly and dew drops\n✅ Tips on combining colors and textures to create a harmonious bouquet. \nWho is this workshop for? \nThis workshop is suitable for parents with children who want to create beautiful and durable floral decor with their own hands and have a great time in the atmosphere of creativity!
URL:https://marinakrutko.com/event/spring-workshop-spring-crocuses/
LOCATION:Art School by Marina Krutko\, 131 SE 1st Ave\, Hallandale Beach\, FL 33019\, Hallandale Beach\, FL\, 33019\, United States
CATEGORIES:Spring
ORGANIZER;CN="Art School by Marina Krutko":MAILTO:krutkomo@gmail.com
END:VEVENT
END:VCALENDAR